BEGIN:VCALENDAR
VERSION:2.0
PRODID:-//78.153.217.226//NONSGML kigkonsult.se iCalcreator 2.20//
CALSCALE:GREGORIAN
METHOD:PUBLISH
X-FROM-URL:http://asgardsc.ie
X-WR-TIMEZONE:Europe/Dublin
BEGIN:VTIMEZONE
TZID:Europe/Dublin
X-LIC-LOCATION:Europe/Dublin
BEGIN:STANDARD
DTSTART:20171029T020000
TZOFFSETFROM:+0100
TZOFFSETTO:+0000
TZNAME:GMT
END:STANDARD
BEGIN:DAYLIGHT
DTSTART:20180325T010000
TZOFFSETFROM:+0000
TZOFFSETTO:+0100
TZNAME:IST
END:DAYLIGHT
END:VTIMEZONE
BEGIN:VEVENT
UID:ai1ec-1817@asgardsc.ie
DTSTAMP:20171028T074800Z
CATEGORIES:
CONTACT:
DESCRIPTION:
DTSTART;VALUE=DATE:20151004
DTEND;VALUE=DATE:20151005
GEO:+52.3482;-6.4561
LOCATION:Wexford Swimming Pool @ Ferrybank\, Co. Wexford\, Ireland
SEQUENCE:0
SUMMARY:Wexford Relay Gala
URL:http://asgardsc.ie/event/wexford-relay-gala/
END:VEVENT
BEGIN:VEVENT
UID:ai1ec-1818@asgardsc.ie
DTSTAMP:20171028T074800Z
CATEGORIES:
CONTACT:
DESCRIPTION:
DTSTART;VALUE=DATE:20151011
DTEND;VALUE=DATE:20151012
GEO:+53.397678;-6.37144
LOCATION:National Aquatic Centre @ National Aquatic Centre\, Dublin\, Co. D
 ublin\, Ireland
SEQUENCE:0
SUMMARY:Short Course Grade D @ NAC
URL:http://asgardsc.ie/event/swimming-short-course-grade-d-nac/
END:VEVENT
BEGIN:VEVENT
UID:ai1ec-1819@asgardsc.ie
DTSTAMP:20171028T074800Z
CATEGORIES:
CONTACT:
DESCRIPTION:
DTSTART;VALUE=DATE:20151025
DTEND;VALUE=DATE:20151026
GEO:+53.397678;-6.37144
LOCATION:National Aquatic Centre @ National Aquatic Centre\, Dublin\, Co. D
 ublin\, Ireland
SEQUENCE:0
SUMMARY:Leinster Graded Gala (SC) @ NAC
URL:http://asgardsc.ie/event/leinster-graded-gala-sc-nac-2/
END:VEVENT
BEGIN:VEVENT
UID:ai1ec-1820@asgardsc.ie
DTSTAMP:20171028T074800Z
CATEGORIES:
CONTACT:
DESCRIPTION:
DTSTART;VALUE=DATE:20151031
DTEND;VALUE=DATE:20151102
GEO:+53.397678;-6.37144
LOCATION:National Aquatic Centre @ National Aquatic Centre\, Dublin\, Co. D
 ublin\, Ireland
SEQUENCE:0
SUMMARY:Leinster Winter Championships (SC) @ NAC
URL:http://asgardsc.ie/event/leinster-winter-championships-sc-nac/
END:VEVENT
BEGIN:VEVENT
UID:ai1ec-1821@asgardsc.ie
DTSTAMP:20171028T074800Z
CATEGORIES:
CONTACT:
DESCRIPTION:
DTSTART;VALUE=DATE:20151114
DTEND;VALUE=DATE:20151116
GEO:+53.339185;-6.232735
LOCATION:ESB Swimming Pool Ringsend @ South Lotts Road\, Dublin\, Co. Dubli
 n\, Ireland
SEQUENCE:0
SUMMARY:ESB Swimming Gala (SC) @ Ringsend
URL:http://asgardsc.ie/event/esb-swimming-gala-sc-ringsend/
END:VEVENT
BEGIN:VEVENT
UID:ai1ec-1822@asgardsc.ie
DTSTAMP:20171028T074800Z
CATEGORIES:
CONTACT:
DESCRIPTION:
DTSTART;VALUE=DATE:20151122
DTEND;VALUE=DATE:20151123
GEO:+53.397678;-6.37144
LOCATION:National Aquatic Centre @ National Aquatic Centre\, Dublin\, Co. D
 ublin\, Ireland
SEQUENCE:0
SUMMARY:Leinster Distance Gala (SC) @ NAC
URL:http://asgardsc.ie/event/leinster-distance-gala-sc-nac/
END:VEVENT
BEGIN:VEVENT
UID:ai1ec-1823@asgardsc.ie
DTSTAMP:20171028T074800Z
CATEGORIES:
CONTACT:
DESCRIPTION:
DTSTART;VALUE=DATE:20151204
DTEND;VALUE=DATE:20151207
GEO:+54.506378;-6.051267
LOCATION:Lagan Valley Leisure Plex @ 18 Lisburn Leisure Park\, Lisburn\, Li
 sburn BT28 1LP\, UK
SEQUENCE:0
SUMMARY:National SC Championships @ Lagan Valley Leisureplex
URL:http://asgardsc.ie/event/national-sc-championships-lagan-valley-leisure
 plex/
END:VEVENT
BEGIN:VEVENT
UID:ai1ec-1824@asgardsc.ie
DTSTAMP:20171028T074800Z
CATEGORIES:
CONTACT:
DESCRIPTION:
DTSTART;VALUE=DATE:20151213
DTEND;VALUE=DATE:20151214
GEO:+53.397678;-6.37144
LOCATION:National Aquatic Centre @ National Aquatic Centre\, Dublin\, Co. D
 ublin\, Ireland
SEQUENCE:0
SUMMARY:Swim4Life Xmas Crackers @ NAC
URL:http://asgardsc.ie/event/swim4life-xmas-crackers-nac/
END:VEVENT
BEGIN:VEVENT
UID:ai1ec-1825@asgardsc.ie
DTSTAMP:20171028T074800Z
CATEGORIES:
CONTACT:
DESCRIPTION:
DTSTART;VALUE=DATE:20160117
DTEND;VALUE=DATE:20160118
GEO:+53.397678;-6.37144
LOCATION:National Aquatic Centre @ National Aquatic Centre\, Dublin\, Co. D
 ublin\, Ireland
SEQUENCE:0
SUMMARY:Leinster Graded Gala @ NAC
URL:http://asgardsc.ie/event/leinster-graded-gala-nac/
END:VEVENT
BEGIN:VEVENT
UID:ai1ec-1826@asgardsc.ie
DTSTAMP:20171028T074800Z
CATEGORIES:
CONTACT:
DESCRIPTION:
DTSTART;VALUE=DATE:20160124
DTEND;VALUE=DATE:20160125
GEO:+53.397678;-6.37144
LOCATION:National Aquatic Centre @ National Aquatic Centre\, Dublin\, Co. D
 ublin\, Ireland
SEQUENCE:0
SUMMARY:Leinster Distance Gala (LC) @ NAC
URL:http://asgardsc.ie/event/leinster-distance-gala-lc-nac/
END:VEVENT
BEGIN:VEVENT
UID:ai1ec-1827@asgardsc.ie
DTSTAMP:20171028T074800Z
CATEGORIES:
CONTACT:
DESCRIPTION:
DTSTART;VALUE=DATE:20160214
DTEND;VALUE=DATE:20160215
GEO:+53.397678;-6.37144
LOCATION:National Aquatic Centre @ National Aquatic Centre\, Dublin\, Co. D
 ublin\, Ireland
SEQUENCE:0
SUMMARY:Charity & Mini-Minnows (SC) @ NAC
URL:http://asgardsc.ie/event/charity-mini-minnows-sc-nac/
END:VEVENT
BEGIN:VEVENT
UID:ai1ec-1828@asgardsc.ie
DTSTAMP:20171028T074800Z
CATEGORIES:
CONTACT:
DESCRIPTION:
DTSTART;VALUE=DATE:20160304
DTEND;VALUE=DATE:20160307
GEO:+54.649518;-5.669423
LOCATION:Aurora Leisure Centre Bangor @ 3 Valentine Road\, Bangor\, North D
 own BT20 4EB\, UK
SEQUENCE:0
SUMMARY:Dave McCullagh Memorial Meet (LC) @ Bangor
URL:http://asgardsc.ie/event/dave-mccullagh-memorial-meet-lc-bangor/
END:VEVENT
BEGIN:VEVENT
UID:ai1ec-1829@asgardsc.ie
DTSTAMP:20171028T074800Z
CATEGORIES:
CONTACT:
DESCRIPTION:
DTSTART;VALUE=DATE:20160319
DTEND;VALUE=DATE:20160321
GEO:+53.397678;-6.37144
LOCATION:National Aquatic Centre @ National Aquatic Centre\, Dublin\, Co. D
 ublin\, Ireland
SEQUENCE:0
SUMMARY:Leinster Long Course Open Championships @ NAC
URL:http://asgardsc.ie/event/leinster-long-course-open-championships-nac/
END:VEVENT
BEGIN:VEVENT
UID:ai1ec-1830@asgardsc.ie
DTSTAMP:20171028T074800Z
CATEGORIES:
CONTACT:
DESCRIPTION:
DTSTART;VALUE=DATE:20160403
DTEND;VALUE=DATE:20160404
SEQUENCE:0
SUMMARY:Trojan Gala – Short Course (Venue TBC)
URL:http://asgardsc.ie/event/trojan-gala-short-course-venue-tbc/
END:VEVENT
BEGIN:VEVENT
UID:ai1ec-1831@asgardsc.ie
DTSTAMP:20171028T074800Z
CATEGORIES:
CONTACT:
DESCRIPTION:
DTSTART;VALUE=DATE:20160410
DTEND;VALUE=DATE:20160411
GEO:+52.395144;-6.932525
LOCATION:The Apex @ Bosheen\, New Ross\, Co. Wexford\, Ireland
SEQUENCE:0
SUMMARY:New Ross Short Course Gala @ New Ross SC
URL:http://asgardsc.ie/event/new-ross-short-course-gala-new-ross-sc/
END:VEVENT
BEGIN:VEVENT
UID:ai1ec-1832@asgardsc.ie
DTSTAMP:20171028T074800Z
CATEGORIES:
CONTACT:
DESCRIPTION:
DTSTART;VALUE=DATE:20160416
DTEND;VALUE=DATE:20160418
GEO:+53.293251;-6.337132
LOCATION:Tallaght Swim Club @ 98 Castle Lawns\, Balrothery\, Dublin 24\, Ir
 eland
SEQUENCE:0
SUMMARY:Tallaght Swim Gala @ Tallaght SC
URL:http://asgardsc.ie/event/tallaght-swim-gala-tallaght-sc/
END:VEVENT
BEGIN:VEVENT
UID:ai1ec-1833@asgardsc.ie
DTSTAMP:20171028T074800Z
CATEGORIES:
CONTACT:
DESCRIPTION:
DTSTART;VALUE=DATE:20160423
DTEND;VALUE=DATE:20160425
GEO:+53.418342;-6.251975
LOCATION:ALSAA  @ Old Airport Road\, Co. Dublin\, Ireland
SEQUENCE:0
SUMMARY:Aer Lingus SC Gala @ ALSAA
URL:http://asgardsc.ie/event/aer-lingus-sc-gala-alsaa/
END:VEVENT
BEGIN:VEVENT
UID:ai1ec-1834@asgardsc.ie
DTSTAMP:20171028T074800Z
CATEGORIES:
CONTACT:
DESCRIPTION:
DTSTART;VALUE=DATE:20160428
DTEND;VALUE=DATE:20160502
GEO:+03.05547;+101.69337
LOCATION:National Aquatic Centre @ National Aquatic Centre\, Bukit Jalil\, 
 57000 Kuala Lumpur\, Wilayah Persekutuan Kuala Lumpur\, Malaysia
SEQUENCE:0
SUMMARY:National Championships @ NAC
URL:http://asgardsc.ie/event/national-championships-nac/
END:VEVENT
BEGIN:VEVENT
UID:ai1ec-1835@asgardsc.ie
DTSTAMP:20171028T074800Z
CATEGORIES:
CONTACT:
DESCRIPTION:
DTSTART;VALUE=DATE:20160515
DTEND;VALUE=DATE:20160516
GEO:+53.397678;-6.37144
LOCATION:National Aquatic Centre @ National Aquatic Centre\, Dublin\, Co. D
 ublin\, Ireland
SEQUENCE:0
SUMMARY:Leinster Open Graded Gala (LC) @ NAC
URL:http://asgardsc.ie/event/leinster-open-graded-gala-lc-nac/
END:VEVENT
BEGIN:VEVENT
UID:ai1ec-1836@asgardsc.ie
DTSTAMP:20171028T074800Z
CATEGORIES:
CONTACT:
DESCRIPTION:
DTSTART;VALUE=DATE:20160603
DTEND;VALUE=DATE:20160606
GEO:+53.397678;-6.37144
LOCATION:National Aquatic Centre @ National Aquatic Centre\, Dublin\, Co. D
 ublin\, Ireland
SEQUENCE:0
SUMMARY:Leinster Division 1 Gala @ NAC
URL:http://asgardsc.ie/event/leinster-division-1-gala-nac-2/
END:VEVENT
BEGIN:VEVENT
UID:ai1ec-1837@asgardsc.ie
DTSTAMP:20171028T074800Z
CATEGORIES:
CONTACT:
DESCRIPTION:
DTSTART;VALUE=DATE:20160612
DTEND;VALUE=DATE:20160613
GEO:+53.397678;-6.37144
LOCATION:National Aquatic Centre @ National Aquatic Centre\, Dublin\, Co. D
 ublin\, Ireland
SEQUENCE:0
SUMMARY:NAC Swim Club LC Gala @ NAC
URL:http://asgardsc.ie/event/nac-swim-club-lc-gala-nac/
END:VEVENT
BEGIN:VEVENT
UID:ai1ec-1838@asgardsc.ie
DTSTAMP:20171028T074800Z
CATEGORIES:
CONTACT:
DESCRIPTION:
DTSTART;VALUE=DATE:20160630
DTEND;VALUE=DATE:20160704
GEO:+52.668557;-8.574482
LOCATION:UL Sport Arena - University of Limerick @ University of Limerick\,
  Castletroy\, Co. Limerick\, Ireland
SEQUENCE:0
SUMMARY:SI Division 2 Age Group Championships @ UL Arena
URL:http://asgardsc.ie/event/si-division-2-age-group-championships-ul-arena
 /
END:VEVENT
BEGIN:VEVENT
UID:ai1ec-1841@asgardsc.ie
DTSTAMP:20171028T074800Z
CATEGORIES:
CONTACT:
DESCRIPTION:
DTSTART;VALUE=DATE:20160720
DTEND;VALUE=DATE:20160725
GEO:+53.397678;-6.37144
LOCATION:National Aquatic Centre @ National Aquatic Centre\, Dublin\, Co. D
 ublin\, Ireland
SEQUENCE:0
SUMMARY:SI Division 1 Age Group Championships (LC)
URL:http://asgardsc.ie/event/si-division-1-age-group-championships-lc/
END:VEVENT
BEGIN:VEVENT
UID:ai1ec-1866@asgardsc.ie
DTSTAMP:20171028T074800Z
CATEGORIES:
CONTACT:
DESCRIPTION:
DTSTART;VALUE=DATE:20161112
DTEND;VALUE=DATE:20161114
LOCATION:SportsCo
SEQUENCE:0
SUMMARY:ESB SC Gala
URL:http://asgardsc.ie/event/esb-sc-gala/
END:VEVENT
BEGIN:VEVENT
UID:ai1ec-1867@asgardsc.ie
DTSTAMP:20171028T074800Z
CATEGORIES:
CONTACT:
DESCRIPTION:
DTSTART;VALUE=DATE:20161120
DTEND;VALUE=DATE:20161121
GEO:+53.391996;-6.380269
LOCATION:NAC @ Snugborough Rd\, Dublin\, Ireland
SEQUENCE:0
SUMMARY:Leinster Distance SHORT COURSE
URL:http://asgardsc.ie/event/leinster-distance-short-course/
END:VEVENT
BEGIN:VEVENT
UID:ai1ec-1868@asgardsc.ie
DTSTAMP:20171028T074800Z
CATEGORIES:
CONTACT:
DESCRIPTION:
DTSTART;VALUE=DATE:20161126
DTEND;VALUE=DATE:20161127
GEO:+52.675735;-6.294302
LOCATION:Courtown Swimming Pool @ Gorey\, Co. Wexford\, Ireland
SEQUENCE:0
SUMMARY:Round Robin (Date to be Confirmed!)
URL:http://asgardsc.ie/event/round-robin-date-to-be-confirmed/
END:VEVENT
BEGIN:VEVENT
UID:ai1ec-1869@asgardsc.ie
DTSTAMP:20171028T074800Z
CATEGORIES:
CONTACT:
DESCRIPTION:
DTSTART;VALUE=DATE:20161127
DTEND;VALUE=DATE:20161128
GEO:+52.801671;-6.144692
LOCATION:Coral Leisure Arklow @ Seaview Ave\, Ferrybank\, Arklow\, Co. Wick
 low\, Ireland
SEQUENCE:0
SUMMARY:Asgard Beginners Gala
URL:http://asgardsc.ie/event/asgard-beginners-gala/
END:VEVENT
BEGIN:VEVENT
UID:ai1ec-1870@asgardsc.ie
DTSTAMP:20171028T074800Z
CATEGORIES:
CONTACT:
DESCRIPTION:
DTSTART;VALUE=DATE:20161202
DTEND;VALUE=DATE:20161205
GEO:+54.50599;-6.05081
LOCATION:Lagan Valley Leisureplex @ 18 Lisburn Leisure Park\, Lisburn BT28 
 1LP\, UK
SEQUENCE:0
SUMMARY:National SC Championships Lisburn
URL:http://asgardsc.ie/event/national-sc-championships-lisburn/
END:VEVENT
BEGIN:VEVENT
UID:ai1ec-1872@asgardsc.ie
DTSTAMP:20171028T074800Z
CATEGORIES:
CONTACT:
DESCRIPTION:
DTSTART;VALUE=DATE:20161218
DTEND;VALUE=DATE:20161219
SEQUENCE:0
SUMMARY:Wexford Round Robin **Entries must be in by Tue 13th Dec**
URL:http://asgardsc.ie/event/wexford-round-robin/
END:VEVENT
BEGIN:VEVENT
UID:ai1ec-1873@asgardsc.ie
DTSTAMP:20171028T074800Z
CATEGORIES:
CONTACT:
DESCRIPTION:
DTSTART;VALUE=DATE:20170115
DTEND;VALUE=DATE:20170116
LOCATION:NAC
SEQUENCE:0
SUMMARY:Leinster Graded SC (NAC) **Entries must be in by 5th Jan!!**
URL:http://asgardsc.ie/event/leinster-graded-sc-nac/
END:VEVENT
BEGIN:VEVENT
UID:ai1ec-1874@asgardsc.ie
DTSTAMP:20171028T074800Z
CATEGORIES:
CONTACT:
DESCRIPTION:
DTSTART;VALUE=DATE:20170121
DTEND;VALUE=DATE:20170122
SEQUENCE:0
SUMMARY:New Ross Round Robin *Entries must be in by Tuesday 17th Jan*
URL:http://asgardsc.ie/event/new-ross-round-robin/
END:VEVENT
BEGIN:VEVENT
UID:ai1ec-1875@asgardsc.ie
DTSTAMP:20171028T074800Z
CATEGORIES:
CONTACT:
DESCRIPTION:
DTSTART;VALUE=DATE:20170122
DTEND;VALUE=DATE:20170123
SEQUENCE:0
SUMMARY:Leinster Distance – Long Course (NAC)
URL:http://asgardsc.ie/event/leinster-distance-long-course-nac/
END:VEVENT
BEGIN:VEVENT
UID:ai1ec-1876@asgardsc.ie
DTSTAMP:20171028T074800Z
CATEGORIES:
CONTACT:
DESCRIPTION:
DTSTART;VALUE=DATE:20170203
DTEND;VALUE=DATE:20170206
SEQUENCE:0
SUMMARY:Dave McCullagh Long Course (Bangor)
URL:http://asgardsc.ie/event/dave-mccullagh-long-course-bangor/
END:VEVENT
BEGIN:VEVENT
UID:ai1ec-1877@asgardsc.ie
DTSTAMP:20171028T074800Z
CATEGORIES:
CONTACT:
DESCRIPTION:
DTSTART;VALUE=DATE:20170219
DTEND;VALUE=DATE:20170220
SEQUENCE:0
SUMMARY:NAC Swim Club SC *Entries in by 7th Feb please!*
URL:http://asgardsc.ie/event/nac-swim-club-sc-all-asgard-swimmers-expected-
 to-attend/
END:VEVENT
BEGIN:VEVENT
UID:ai1ec-1878@asgardsc.ie
DTSTAMP:20171028T074800Z
CATEGORIES:
CONTACT:
DESCRIPTION:
DTSTART;VALUE=DATE:20170225
DTEND;VALUE=DATE:20170227
SEQUENCE:0
SUMMARY:Leinster Long Course Open Champs -NAC *Entries in by Feb 9th!*
URL:http://asgardsc.ie/event/leinster-long-course-open-champs-tbc/
END:VEVENT
BEGIN:VEVENT
UID:ai1ec-1879@asgardsc.ie
DTSTAMP:20171028T074800Z
CATEGORIES:
CONTACT:
DESCRIPTION:
DTSTART;VALUE=DATE:20170226
DTEND;VALUE=DATE:20170227
SEQUENCE:0
SUMMARY:Enniscorthy Round Robin
URL:http://asgardsc.ie/event/enniscorthy-round-robin/
END:VEVENT
BEGIN:VEVENT
UID:ai1ec-2038@asgardsc.ie
DTSTAMP:20171028T074800Z
CATEGORIES:
CONTACT:
DESCRIPTION:
DTSTART;VALUE=DATE:20170312
DTEND;VALUE=DATE:20170313
LOCATION:Ferrybank Pool\, Wexford Town
SEQUENCE:0
SUMMARY:Wexford Spring Gala *entries in by Sat 4th March!!!*
URL:http://asgardsc.ie/event/wexford-spring-gala-entries-in-by-sat-4th-marc
 h/
X-COST-TYPE:free
END:VEVENT
BEGIN:VEVENT
UID:ai1ec-2016@asgardsc.ie
DTSTAMP:20171028T074800Z
CATEGORIES:
CONTACT:
DESCRIPTION:
DTSTART;VALUE=DATE:20170318
DTEND;VALUE=DATE:20170320
GEO:+53.394449;-6.149468
LOCATION:Trinity Sports & Leisure Complex @ Dublin 13\, Ireland
SEQUENCE:0
SUMMARY:Cormorant Gala *Entries in by Thurs 9th March please!*
URL:http://asgardsc.ie/event/cormorant-gala-entries-in-by-thurs-9th-march-p
 lease/
X-COST-TYPE:free
END:VEVENT
BEGIN:VEVENT
UID:ai1ec-1880@asgardsc.ie
DTSTAMP:20171028T074800Z
CATEGORIES:
CONTACT:
DESCRIPTION:
DTSTART;VALUE=DATE:20170325
DTEND;VALUE=DATE:20170326
SEQUENCE:0
SUMMARY:New Ross Round Robin
URL:http://asgardsc.ie/event/new-ross-round-robin-2/
END:VEVENT
BEGIN:VEVENT
UID:ai1ec-2037@asgardsc.ie
DTSTAMP:20171028T074800Z
CATEGORIES:
CONTACT:
DESCRIPTION:
DTSTART;VALUE=DATE:20170325
DTEND;VALUE=DATE:20170327
LOCATION:Newpark Sports Centre\, Blackrock\, Co. Dublin
SEQUENCE:0
SUMMARY:Trojan Invitational Meet *Entries in by Tue 14th March please!!*
URL:http://asgardsc.ie/event/trojan-invitational-meet-entries-in-by-tue-14t
 h-march-please/
X-COST-TYPE:free
END:VEVENT
BEGIN:VEVENT
UID:ai1ec-1882@asgardsc.ie
DTSTAMP:20171028T074800Z
CATEGORIES:
CONTACT:
DESCRIPTION:
DTSTART;VALUE=DATE:20170406
DTEND;VALUE=DATE:20170410
SEQUENCE:0
SUMMARY:National LC Championships (NAC)
URL:http://asgardsc.ie/event/national-lc-championships-nac/
END:VEVENT
BEGIN:VEVENT
UID:ai1ec-1883@asgardsc.ie
DTSTAMP:20171028T074800Z
CATEGORIES:
CONTACT:
DESCRIPTION:
DTSTART;VALUE=DATE:20170429
DTEND;VALUE=DATE:20170501
SEQUENCE:0
SUMMARY:New Ross SC Gala **entries in by Sat 8th April!**
URL:http://asgardsc.ie/event/new-ross-sc-gala/
X-COST-TYPE:free
END:VEVENT
BEGIN:VEVENT
UID:ai1ec-1884@asgardsc.ie
DTSTAMP:20171028T074800Z
CATEGORIES:
CONTACT:
DESCRIPTION:
DTSTART;VALUE=DATE:20170506
DTEND;VALUE=DATE:20170508
GEO:+53.418343;-6.251978
LOCATION:ALSAA Pool @ Old Airport Rd\, Co. Dublin\, Ireland
SEQUENCE:0
SUMMARY:Aer Lingus Gala
URL:http://asgardsc.ie/event/aer-lingus-gala/
END:VEVENT
BEGIN:VEVENT
UID:ai1ec-1885@asgardsc.ie
DTSTAMP:20171028T074800Z
CATEGORIES:
CONTACT:
DESCRIPTION:
DTSTART;VALUE=DATE:20170514
DTEND;VALUE=DATE:20170515
SEQUENCE:0
SUMMARY:LeinsterDiv2 Gala SC (NAC)
URL:http://asgardsc.ie/event/leinsterdiv2-gala-sc-nac/
END:VEVENT
BEGIN:VEVENT
UID:ai1ec-1886@asgardsc.ie
DTSTAMP:20171028T074800Z
CATEGORIES:
CONTACT:
DESCRIPTION:
DTSTART;VALUE=DATE:20170602
DTEND;VALUE=DATE:20170605
SEQUENCE:0
SUMMARY:LeinsterDiv1 Gala LC (NAC) **Entries in by Thurs 18th May please!!!
 ***
URL:http://asgardsc.ie/event/leinsterdiv1-gala-lc-nac/
X-COST-TYPE:free
END:VEVENT
BEGIN:VEVENT
UID:ai1ec-1887@asgardsc.ie
DTSTAMP:20171028T074800Z
CATEGORIES:
CONTACT:
DESCRIPTION:
DTSTART;VALUE=DATE:20170611
DTEND;VALUE=DATE:20170612
SEQUENCE:0
SUMMARY:NAC SC Long Course Gala
URL:http://asgardsc.ie/event/nac-sc-long-course-gala/
END:VEVENT
BEGIN:VEVENT
UID:ai1ec-1888@asgardsc.ie
DTSTAMP:20171028T074800Z
CATEGORIES:
CONTACT:
DESCRIPTION:
DTSTART;VALUE=DATE:20170617
DTEND;VALUE=DATE:20170618
SEQUENCE:0
SUMMARY:Wexford Small Fry (under 12’s and beginners)
URL:http://asgardsc.ie/event/wexford-small-fry-under-12s-and-beginners/
END:VEVENT
BEGIN:VEVENT
UID:ai1ec-1890@asgardsc.ie
DTSTAMP:20171028T074800Z
CATEGORIES:
CONTACT:
DESCRIPTION:
DTSTART;VALUE=DATE:20170629
DTEND;VALUE=DATE:20170703
SEQUENCE:0
SUMMARY:SI Div 2 Age Group Champs SC (Limerick UL)
URL:http://asgardsc.ie/event/si-div-2-age-group-champs-sc-limerick-ul/
END:VEVENT
BEGIN:VEVENT
UID:ai1ec-1891@asgardsc.ie
DTSTAMP:20171028T074800Z
CATEGORIES:
CONTACT:
DESCRIPTION:
DTSTART;VALUE=DATE:20170719
DTEND;VALUE=DATE:20170724
SEQUENCE:0
SUMMARY:SI Div 1 Age Group Champs LC (NAC)
URL:http://asgardsc.ie/event/si-div-1-age-group-champs-lc-nac/
END:VEVENT
BEGIN:VEVENT
UID:ai1ec-1460@asgardsc.ie
DTSTAMP:20171028T074800Z
CATEGORIES:
CONTACT:Rachel Kealy\; asgard.swimmingclub@gmail.com
DESCRIPTION:
DTSTART;TZID=Europe/Dublin:20141108T080000
DTEND;TZID=Europe/Dublin:20141109T180000
GEO:+53.391554;-6.375839
LOCATION:National Aquatic Centre @ Snugborough Road\, Dublin\, Co. Dublin\,
  Ireland
SEQUENCE:0
SUMMARY:NAC Leinster Winter Champs
URL:http://asgardsc.ie/event/nac-leinster-winter-champs/
END:VEVENT
BEGIN:VEVENT
UID:ai1ec-1461@asgardsc.ie
DTSTAMP:20171028T074800Z
CATEGORIES:
CONTACT:Rachel Kealy\; asgard.swimmingclub@gmail.com
DESCRIPTION:
DTSTART;TZID=Europe/Dublin:20141115T080000
DTEND;TZID=Europe/Dublin:20141116T180000
GEO:+53.339276;-6.233608
LOCATION:ESB Swimming Club @ South Lotts Road\, Dublin 4\, Ireland
SEQUENCE:0
SUMMARY:ESB Swim Gala SC
URL:http://asgardsc.ie/event/esb-swim-gala-sc/
END:VEVENT
BEGIN:VEVENT
UID:ai1ec-1463@asgardsc.ie
DTSTAMP:20171028T074800Z
CATEGORIES:
CONTACT:Rachel Kealy\; asgard.swimmingclub@gmail.com
DESCRIPTION:
DTSTART;TZID=Europe/Dublin:20141123T080000
DTEND;TZID=Europe/Dublin:20141123T180000
GEO:+53.393768;-6.376943
LOCATION:National Aquatic Centre @ Snugborough Road\, Dublin\, Ireland
SEQUENCE:0
SUMMARY:Leinster Distance Gala
URL:http://asgardsc.ie/event/leinster-distance-gala-2/
END:VEVENT
BEGIN:VEVENT
UID:ai1ec-1465@asgardsc.ie
DTSTAMP:20171028T074800Z
CATEGORIES:
CONTACT:Rachel Kealy\; asgard.swimmingclub@gmail.com
DESCRIPTION:
DTSTART;TZID=Europe/Dublin:20141212T080000
DTEND;TZID=Europe/Dublin:20141214T180000
GEO:+54.506406;-6.052135
LOCATION:Lagan Valley LeisurePlex @ Lisburn\, Lisburn\, Lisburn BT28 1LP\, 
 UK
SEQUENCE:0
SUMMARY:National Short-Course Championship
URL:http://asgardsc.ie/event/national-short-course-championship/
END:VEVENT
BEGIN:VEVENT
UID:ai1ec-1464@asgardsc.ie
DTSTAMP:20171028T074800Z
CATEGORIES:
CONTACT:Rachel Kealy\; asgard.swimmingclub@gmail.com
DESCRIPTION:
DTSTART;TZID=Europe/Dublin:20141214T080000
DTEND;TZID=Europe/Dublin:20141214T180000
GEO:+53.393768;-6.376943
LOCATION:National Aquatic Centre @ Snugborough Road\, Dublin\, Ireland
SEQUENCE:0
SUMMARY:NAC – Swim4Life Christmas Crackers SC
URL:http://asgardsc.ie/event/nac-swim4life-christmas-crackers-sc/
END:VEVENT
BEGIN:VEVENT
UID:ai1ec-1466@asgardsc.ie
DTSTAMP:20171028T074800Z
CATEGORIES:
CONTACT:Rachel Kealy\; asgard.swimmingclub@gmail.com
DESCRIPTION:
DTSTART;TZID=Europe/Dublin:20150118T080000
DTEND;TZID=Europe/Dublin:20150118T180000
GEO:+53.391554;-6.375839
LOCATION:National Aquatic Centre @ Snugborough Road\, Dublin\, Co. Dublin\,
  Ireland
SEQUENCE:0
SUMMARY:NAC – Leinster Graded Gala SC
URL:http://asgardsc.ie/event/nac-leinster-graded-gala-sc/
END:VEVENT
BEGIN:VEVENT
UID:ai1ec-1467@asgardsc.ie
DTSTAMP:20171028T074800Z
CATEGORIES:
CONTACT:Rachel Kealy\; asgard.swimmingclub@gmail.com
DESCRIPTION:
DTSTART;TZID=Europe/Dublin:20150125T080000
DTEND;TZID=Europe/Dublin:20150125T180000
GEO:+53.391554;-6.375839
LOCATION:National Aquatic Centre @ Snugborough Road\, Dublin\, Co. Dublin\,
  Ireland
SEQUENCE:0
SUMMARY:Leinster Distance Gala – LC
URL:http://asgardsc.ie/event/leinster-distance-gala-lc/
END:VEVENT
BEGIN:VEVENT
UID:ai1ec-1476@asgardsc.ie
DTSTAMP:20171028T074800Z
CATEGORIES:
CONTACT:Rachel Kealy\; asgard.swimmingclub@gmail.com
DESCRIPTION:
DTSTART;TZID=Europe/Dublin:20150215T080000
DTEND;TZID=Europe/Dublin:20150215T180000
GEO:+53.396881;-6.37419
LOCATION:National Aquatic Centre @ Snugborough Road\, Dublin\, Ireland
SEQUENCE:0
SUMMARY:NAC Charity Gala & Mini-Minnows SC
URL:http://asgardsc.ie/event/nac-charity-gala-mini-minnows-sc/
END:VEVENT
BEGIN:VEVENT
UID:ai1ec-1477@asgardsc.ie
DTSTAMP:20171028T074800Z
CATEGORIES:
CONTACT:Rachel Kealy\; asgard.swimmingclub@gmail.com
DESCRIPTION:<div class='ai1ec-field-label ai1ec-col-sm-4 ai1ec-col-md-5'>Ga
 la Entry Form Available <a title='Cormorant Gala Entry Form' href='http://
 asgardsc.ie/documents/cormorant%20gala 28th Feb 1st March 2015.xls' target
 ='_blank'>Here</a></div>
DTSTART;TZID=Europe/Dublin:20150228T080000
DTEND;TZID=Europe/Dublin:20150301T180000
GEO:+53.405189;-6.160714
LOCATION:Donaghmede @ Father Collins Park\, The Hole in The Wall Road\, Dub
 lin 13\, Ireland
SEQUENCE:0
SUMMARY:Cormorant SC – Donaghmede
URL:http://asgardsc.ie/event/cormorant-sc-donaghmede/
END:VEVENT
BEGIN:VEVENT
UID:ai1ec-1478@asgardsc.ie
DTSTAMP:20171028T074800Z
CATEGORIES:
CONTACT:Rachel Kealy\; asgard.swimmingclub@gmail.com
DESCRIPTION:
DTSTART;TZID=Europe/Dublin:20150306T080000
DTEND;TZID=Europe/Dublin:20150308T180000
GEO:+54.653335;-5.661003
LOCATION:Aurora Complex\, @ 3 Valentine Road\, Bangor\, North Down BT20 4UN
 \, UK
SEQUENCE:0
SUMMARY:Dave McCullagh Memorial – Bangor LC
URL:http://asgardsc.ie/event/dave-mccullagh-memorial-bangor-lc/
END:VEVENT
BEGIN:VEVENT
UID:ai1ec-1479@asgardsc.ie
DTSTAMP:20171028T074800Z
CATEGORIES:
CONTACT:Rachel Kealy\; asgard.swimmingclub@gmail.com
DESCRIPTION:
DTSTART;TZID=Europe/Dublin:20150321T080000
DTEND;TZID=Europe/Dublin:20150322T180000
GEO:+53.396881;-6.37419
LOCATION:National Aquatic Centre @ Snugborough Rd\, Dublin\, Co. Dublin\, I
 reland
SEQUENCE:0
SUMMARY:Leinster LC Open Championships
URL:http://asgardsc.ie/event/leinster-lc-open-championships/
END:VEVENT
BEGIN:VEVENT
UID:ai1ec-1480@asgardsc.ie
DTSTAMP:20171028T074800Z
CATEGORIES:
CONTACT:Rachel Kealy\; asgard.swimmingclub@gmail.com
DESCRIPTION:
DTSTART;TZID=Europe/Dublin:20150328T080000
DTEND;TZID=Europe/Dublin:20150329T180000
GEO:+53.285027;-6.416635
LOCATION:Tallaght Leisure Centre @ 24 Fortunestown Lane\, Mac Uilliam Parad
 e\, Dublin 24\, Ireland
SEQUENCE:0
SUMMARY:Tallaght SC Gala
URL:http://asgardsc.ie/event/tallaght-sc-gala/
END:VEVENT
BEGIN:VEVENT
UID:ai1ec-1481@asgardsc.ie
DTSTAMP:20171028T074800Z
CATEGORIES:
CONTACT:Rachel Kealy\; asgard.swimmingclub@gmail.com
DESCRIPTION:
DTSTART;TZID=Europe/Dublin:20150412T080000
DTEND;TZID=Europe/Dublin:20150412T180000
GEO:+53.396881;-6.37419
LOCATION:National Aquatic Centre @ Snugborough Road\, Dublin\, Ireland
SEQUENCE:0
SUMMARY:Trojan SC Gala (TBC)
URL:http://asgardsc.ie/event/trojan-sc-gala-tbc/
END:VEVENT
BEGIN:VEVENT
UID:ai1ec-1482@asgardsc.ie
DTSTAMP:20171028T074800Z
CATEGORIES:
CONTACT:Rachel Kealy\; asgard.swimmingclub@gmail.com
DESCRIPTION:
DTSTART;TZID=Europe/Dublin:20150426T080000
DTEND;TZID=Europe/Dublin:20150426T180000
GEO:+53.396881;-6.37419
LOCATION:National Aquatic Centre @ Snugborough Road\, Dublin\, Co. Dublin\,
  Ireland
SEQUENCE:0
SUMMARY:Leinster Open Graded Gala SC
URL:http://asgardsc.ie/event/leinster-open-graded-gala-sc/
END:VEVENT
BEGIN:VEVENT
UID:ai1ec-1483@asgardsc.ie
DTSTAMP:20171028T074800Z
CATEGORIES:
CONTACT:Rachel Kealy\; asgard.swimmingclub@gmail.com
DESCRIPTION:
DTSTART;TZID=Europe/Dublin:20150430T080000
DTEND;TZID=Europe/Dublin:20150503T180000
GEO:+53.396881;-6.37419
LOCATION:National Aquatic Centre @ Snugborough Road\, Dublin\, Co. Dublin\,
  Ireland
SEQUENCE:0
SUMMARY:National Long-Course Championships
URL:http://asgardsc.ie/event/national-long-course-championships/
END:VEVENT
BEGIN:VEVENT
UID:ai1ec-1484@asgardsc.ie
DTSTAMP:20171028T074800Z
CATEGORIES:
CONTACT:Rachel Kealy\; asgard.swimmingclub@gmail.com
DESCRIPTION:
DTSTART;TZID=Europe/Dublin:20150516T080000
DTEND;TZID=Europe/Dublin:20150517T180000
GEO:+53.418342;-6.251975
LOCATION:ALSAA @ Old Airport Road\, Co. Dublin\, Ireland
SEQUENCE:0
SUMMARY:Aer Lingus Gala – SC
URL:http://asgardsc.ie/event/aer-lingus-gala-sc/
END:VEVENT
BEGIN:VEVENT
UID:ai1ec-1485@asgardsc.ie
DTSTAMP:20171028T074800Z
CATEGORIES:
CONTACT:Rachel Kealy\; asgard.swimmingclub@gmail.com
DESCRIPTION:
DTSTART;TZID=Europe/Dublin:20150523T080000
DTEND;TZID=Europe/Dublin:20150524T180000
GEO:+52.246953;-7.144436
LOCATION:Waterford Crystal Sport and Leisure Centre @ Cork Road\, Co. Water
 ford\, Ireland
SEQUENCE:0
SUMMARY:New Ross Gala – SC
URL:http://asgardsc.ie/event/new-ross-gala-sc/
END:VEVENT
BEGIN:VEVENT
UID:ai1ec-1486@asgardsc.ie
DTSTAMP:20171028T074800Z
CATEGORIES:
CONTACT:Rachel Kealy\; asgard.swimmingclub@gmail.com
DESCRIPTION:
DTSTART;TZID=Europe/Dublin:20150529T080000
DTEND;TZID=Europe/Dublin:20150531T180000
GEO:+53.396881;-6.37419
LOCATION:National Aquatic Centre @ Snugborough Road\, Dublin\, Co. Dublin\,
  Ireland
SEQUENCE:0
SUMMARY:Leinster Division One Gala
URL:http://asgardsc.ie/event/leinster-division-one-gala/
END:VEVENT
BEGIN:VEVENT
UID:ai1ec-1906@asgardsc.ie
DTSTAMP:20171028T074800Z
CATEGORIES:
CONTACT:
DESCRIPTION:
DTSTART;TZID=Europe/Dublin:20161211T110000
DTEND;TZID=Europe/Dublin:20161211T170000
LOCATION:NAC
SEQUENCE:0
SUMMARY:Swim Ireland Christmas Fun Gala (ages 7-12 only)
URL:http://asgardsc.ie/event/swim-ireland-christmas-fun-gala-ages-7-12-only
 /
END:VEVENT
BEGIN:VEVENT
UID:ai1ec-1981@asgardsc.ie
DTSTAMP:20171028T074800Z
CATEGORIES:
CONTACT:
DESCRIPTION:
DTSTART;TZID=Europe/Dublin:20161220T173000
DTEND;TZID=Europe/Dublin:20161220T193000
LOCATION:Coral pool Arklow
SEQUENCE:0
SUMMARY:Asgard Internal Gala and awards night- all Asgard swimmers to atten
 d!
URL:http://asgardsc.ie/event/asgard-internal-gala-and-awards-night-all-asga
 rd-swimmers-to-attend/
END:VEVENT
BEGIN:VEVENT
UID:ai1ec-1889@asgardsc.ie
DTSTAMP:20171028T074800Z
CATEGORIES:
CONTACT:
DESCRIPTION:
DTSTART;TZID=Europe/Dublin:20170618T120500
DTEND;TZID=Europe/Dublin:20170618T130500
SEQUENCE:0
SUMMARY:Wexford Last Chance Saloon (last chance to get IAG Div 1 qualifying
  times!)
URL:http://asgardsc.ie/event/wexford-last-chance-saloon-last-chance-to-get-
 iag-div-1-qualifying-times/
END:VEVENT
END:VCALENDAR
